BEGIN:VCALENDAR
VERSION:2.0
PRODID:-//Roeya Training Center - ECPv6.15.13//NONSGML v1.0//EN
CALSCALE:GREGORIAN
METHOD:PUBLISH
X-WR-CALNAME:Roeya Training Center
X-ORIGINAL-URL:https://roeyatraining.com
X-WR-CALDESC:Events for Roeya Training Center
REFRESH-INTERVAL;VALUE=DURATION:PT1H
X-Robots-Tag:noindex
X-PUBLISHED-TTL:PT1H
BEGIN:VTIMEZONE
TZID:UTC
BEGIN:STANDARD
TZOFFSETFROM:+0000
TZOFFSETTO:+0000
TZNAME:UTC
DTSTART:20250101T000000
END:STANDARD
END:VTIMEZONE
BEGIN:VEVENT
DTSTART;TZID=UTC:20260508T100000
DTEND;TZID=UTC:20260510T173000
DTSTAMP:20260423T124504
CREATED:20260104T151917Z
LAST-MODIFIED:20260414T141210Z
UID:9989-1778234400-1778434200@roeyatraining.com
SUMMARY:Advanced EUS Training Course
DESCRIPTION:Registration is now open for the Advanced EUS Training Course.Hands-on\, expert-led training designed to advance your endoscopic ultrasound skills. \nLimited seats — secure your spot today. \n👉 View Program
URL:https://roeyatraining.com/event/advanced-eus-training-course/
LOCATION:ROEYA Training Center\, Giza\, Egypt
CATEGORIES:Endoscopy Series,In Egypt
ATTACH;FMTTYPE=image/png:https://roeyatraining.com/wp-content/uploads/2026/01/3-1.png
END:VEVENT
BEGIN:VEVENT
DTSTART;TZID=UTC:20260515T100000
DTEND;TZID=UTC:20260516T173000
DTSTAMP:20260423T124504
CREATED:20260104T153033Z
LAST-MODIFIED:20260414T141512Z
UID:9991-1778839200-1778952600@roeyatraining.com
SUMMARY:Hemostasis & Polypectomy Training Course
DESCRIPTION:Registration is now open for the Hemostasis & Polypectomy Course.Limited-seating program focused on practical\, high-quality therapeutic endoscopy training. \nSeats are limited — register now.👉 View Program
URL:https://roeyatraining.com/event/hemostasis-polypectomy-training-course/
LOCATION:ROEYA Training Center\, Giza\, Egypt
CATEGORIES:Endoscopy Series,In Egypt
ATTACH;FMTTYPE=image/png:https://roeyatraining.com/wp-content/uploads/2026/01/3-2.png
END:VEVENT
BEGIN:VEVENT
DTSTART;TZID=UTC:20260521T100000
DTEND;TZID=UTC:20260522T173000
DTSTAMP:20260423T124504
CREATED:20260405T161436Z
LAST-MODIFIED:20260405T161436Z
UID:10135-1779357600-1779471000@roeyatraining.com
SUMMARY:APPG – Advanced Problem-Solving Program in Gastroenterology | Sandoz & ROEYA Training Center
DESCRIPTION:The Advanced Problem-Solving Program in Gastroenterology (APPG) is a specialized medical education initiative designed to enhance clinical decision-making and practical skills among gastroenterology professionals. \nDelivered in collaboration with Sandoz (A Novartis Division) and ROEYA Training Center\, this program offers case-based learning to address complex GI challenges and improve patient outcomes. \nExplore how APPG is advancing the future of gastroenterology care. \n👉 View Program
URL:https://roeyatraining.com/event/appg-advanced-problem-solving-program-in-gastroenterology-sandoz-roeya-training-center/
LOCATION:ROEYA Training Center\, Giza\, Egypt
CATEGORIES:In Egypt,Upcoming Event
ATTACH;FMTTYPE=image/png:https://roeyatraining.com/wp-content/uploads/2026/04/APPG-Project-Proposal.pdf-1-scaled.png
END:VEVENT
BEGIN:VEVENT
DTSTART;TZID=UTC:20260529T100000
DTEND;TZID=UTC:20260530T173000
DTSTAMP:20260423T124504
CREATED:20260104T153535Z
LAST-MODIFIED:20260414T141635Z
UID:9995-1780048800-1780162200@roeyatraining.com
SUMMARY:Upper &Colonoscopy Training Course 2nd Wave
DESCRIPTION:Registration is now open for the Upper & Colonoscopy Course – Second Wave.Hands-on\, high-quality training in essential and advanced endoscopy techniques. \nLimited seats — secure your spot today. \n👉 View Program
URL:https://roeyatraining.com/event/upper-colonoscopy-training-course-2nd-wave/
LOCATION:ROEYA Training Center\, Giza\, Egypt
CATEGORIES:Endoscopy Series,In Egypt
ATTACH;FMTTYPE=image/png:https://roeyatraining.com/wp-content/uploads/2026/01/3-2.png
END:VEVENT
BEGIN:VEVENT
DTSTART;TZID=UTC:20260612T100000
DTEND;TZID=UTC:20260614T173000
DTSTAMP:20260423T124504
CREATED:20260104T154302Z
LAST-MODIFIED:20260414T141950Z
UID:9996-1781258400-1781458200@roeyatraining.com
SUMMARY:Basic EUS Training Course
DESCRIPTION:Master the Basics of EUS — join our training course!A focused\, hands-on course covering essential techniques in endoscopic ultrasound. \nDon’t wait — limited seats available!👉 View Program.
URL:https://roeyatraining.com/event/basic-eus-training-course/
LOCATION:ROEYA Training Center\, Giza\, Egypt
CATEGORIES:Endoscopy Series,In Egypt
ATTACH;FMTTYPE=image/png:https://roeyatraining.com/wp-content/uploads/2026/01/2-scaled.png
END:VEVENT
BEGIN:VEVENT
DTSTART;TZID=UTC:20260619T100000
DTEND;TZID=UTC:20260620T173000
DTSTAMP:20260423T124504
CREATED:20260414T150151Z
LAST-MODIFIED:20260414T150151Z
UID:10150-1781863200-1781976600@roeyatraining.com
SUMMARY:Liver Biopsy & Ultrasound Training Course
DESCRIPTION:The Liver Biopsy & Ultrasound Training Course – 2026 is now open for registration. \nEnhance your skills with expert-led\, hands-on ultrasound and biopsy training.\nSecure your spot today. \n👉 View Program
URL:https://roeyatraining.com/event/liver-biopsy-ultrasound-training-course/
LOCATION:ROEYA Training Center\, Giza\, Egypt
CATEGORIES:Endoscopy Series,In Egypt
ATTACH;FMTTYPE=image/png:https://roeyatraining.com/wp-content/uploads/2026/01/2-scaled.png
END:VEVENT
BEGIN:VEVENT
DTSTART;TZID=UTC:20260626T100000
DTEND;TZID=UTC:20260628T173000
DTSTAMP:20260423T124504
CREATED:20260104T160055Z
LAST-MODIFIED:20260414T150409Z
UID:10002-1782468000-1782667800@roeyatraining.com
SUMMARY:ESD Training Course
DESCRIPTION:Master ESD techniques — join the 2026 training course!Hands-on\, intensive sessions designed for endoscopists seeking advanced ESD expertise. \nDon’t wait — limited seats available!👉 View Program
URL:https://roeyatraining.com/event/esd-training-course-2/
LOCATION:ROEYA Training Center\, Giza\, Egypt
CATEGORIES:Endoscopy Series,In Egypt
ATTACH;FMTTYPE=image/png:https://roeyatraining.com/wp-content/uploads/2026/01/4.png
END:VEVENT
BEGIN:VEVENT
DTSTART;TZID=UTC:20260710T100000
DTEND;TZID=UTC:20260711T173000
DTSTAMP:20260423T124504
CREATED:20260104T184935Z
LAST-MODIFIED:20260414T150450Z
UID:10006-1783677600-1783791000@roeyatraining.com
SUMMARY:Upper & Colonoscopy 3rd Wave
DESCRIPTION:Enhance your endoscopic precision with focused training in Upper and Colonoscopy Third Wave.Develop core competencies through structured\, hands-on learning. \nLimited seating. Enroll now. \nView Program
URL:https://roeyatraining.com/event/upper-colonoscopy-3rd-wave/
LOCATION:ROEYA Training Center\, Giza\, Egypt
CATEGORIES:Endoscopy Series,In Egypt
ATTACH;FMTTYPE=image/png:https://roeyatraining.com/wp-content/uploads/2026/01/4.png
END:VEVENT
BEGIN:VEVENT
DTSTART;TZID=UTC:20260717T100000
DTEND;TZID=UTC:20260721T173000
DTSTAMP:20260423T124504
CREATED:20260104T152939Z
LAST-MODIFIED:20260414T150944Z
UID:9988-1784282400-1784655000@roeyatraining.com
SUMMARY:ERCP Training Course
DESCRIPTION:Take your ERCP expertise to the next level — 2026 registration is open!Join our focused\, hands-on program covering both fundamental and advanced ERCP techniques. \nSeats are limited — don’t miss out! \n👉 View Program
URL:https://roeyatraining.com/event/ercp-training-course-2/
LOCATION:ROEYA Training Center\, Giza\, Egypt
CATEGORIES:Endoscopy Series,Previous Events,Upcoming Event
ATTACH;FMTTYPE=image/png:https://roeyatraining.com/wp-content/uploads/2026/01/4.png
END:VEVENT
BEGIN:VEVENT
DTSTART;TZID=UTC:20260731T100000
DTEND;TZID=UTC:20260802T173000
DTSTAMP:20260423T124504
CREATED:20260104T192524Z
LAST-MODIFIED:20260414T150528Z
UID:10008-1785492000-1785691800@roeyatraining.com
SUMMARY:Advanced EUS Training Course 2nd Wave
DESCRIPTION:Due to high demand\, the ROEYA Endoscopy Series Programs are opening registration for the 2026 calendar. \nLimited-seating courses on Basic and advanced endoscopy techniques are now available. \nSecure your place today! \nView Program.
URL:https://roeyatraining.com/event/advanced-eus-training-course-2nd-wave/
LOCATION:ROEYA Training Center\, Giza\, Egypt
CATEGORIES:Endoscopy Series,In Egypt
ATTACH;FMTTYPE=image/png:https://roeyatraining.com/wp-content/uploads/2026/01/4.png
END:VEVENT
BEGIN:VEVENT
DTSTART;TZID=UTC:20260814T100000
DTEND;TZID=UTC:20260815T173000
DTSTAMP:20260423T124504
CREATED:20260414T151240Z
LAST-MODIFIED:20260414T151240Z
UID:10154-1786701600-1786815000@roeyatraining.com
SUMMARY:Liver Biopsy & Ultrasound Training Course
DESCRIPTION:The Liver Biopsy & Ultrasound Training Course – 2026 is now open for registration. \nEnhance your skills with expert-led\, hands-on ultrasound and biopsy training. \nSecure your spot today. \n👉 View Program
URL:https://roeyatraining.com/event/liver-biopsy-ultrasound-training-course-2/
LOCATION:ROEYA Training Center\, Giza\, Egypt
CATEGORIES:Endoscopy Series,In Egypt,Upcoming Event
ATTACH;FMTTYPE=image/png:https://roeyatraining.com/wp-content/uploads/2026/01/4.png
END:VEVENT
BEGIN:VEVENT
DTSTART;TZID=UTC:20260828T100000
DTEND;TZID=UTC:20260829T173000
DTSTAMP:20260423T124504
CREATED:20260104T192903Z
LAST-MODIFIED:20260414T151347Z
UID:10010-1787911200-1788024600@roeyatraining.com
SUMMARY:Hemostasis & Polypectomy 3rd Wave
DESCRIPTION:Advance your skills in Hemostasis & Polypectomy. \nThird Wave enrollment is now open with limited seating. \nSecure Your Seat Now! \nView Program.
URL:https://roeyatraining.com/event/hemostasis-polypectomy-3rd-wave/
LOCATION:ROEYA Training Center\, Giza\, Egypt
CATEGORIES:Endoscopy Series,In Egypt
ATTACH;FMTTYPE=image/png:https://roeyatraining.com/wp-content/uploads/2026/01/4.png
END:VEVENT
BEGIN:VEVENT
DTSTART;TZID=UTC:20260911T100000
DTEND;TZID=UTC:20260913T173000
DTSTAMP:20260423T124504
CREATED:20260104T195449Z
LAST-MODIFIED:20260414T151746Z
UID:10013-1789120800-1789320600@roeyatraining.com
SUMMARY:ESD Training Course 3rd Wave
DESCRIPTION:Advance your endoscopic expertise with ESD training focused on precision\, safety\, and real-world application.Third Wave registration is now open with limited seats available. \n👉 View Program
URL:https://roeyatraining.com/event/esd-training-course-3rd-wave/
LOCATION:ROEYA Training Center\, Giza\, Egypt
CATEGORIES:Endoscopy Series,In Egypt
ATTACH;FMTTYPE=image/png:https://roeyatraining.com/wp-content/uploads/2026/01/5.png
END:VEVENT
BEGIN:VEVENT
DTSTART;TZID=UTC:20260918T100000
DTEND;TZID=UTC:20260922T173000
DTSTAMP:20260423T124504
CREATED:20260414T152004Z
LAST-MODIFIED:20260414T152044Z
UID:10157-1789725600-1790098200@roeyatraining.com
SUMMARY:ERCP Training Course
DESCRIPTION:Master advanced ERCP techniques with hands-on training and expert guidance.ERCP is now open — limited seats available. \n👉 View Program
URL:https://roeyatraining.com/event/ercp-training-course-5th-wave-2/
LOCATION:ROEYA Training Center\, Giza\, Egypt
CATEGORIES:Endoscopy Series,In Egypt
ATTACH;FMTTYPE=image/png:https://roeyatraining.com/wp-content/uploads/2026/01/5.png
END:VEVENT
BEGIN:VEVENT
DTSTART;TZID=UTC:20260925T100000
DTEND;TZID=UTC:20260926T173000
DTSTAMP:20260423T124504
CREATED:20260104T200757Z
LAST-MODIFIED:20260414T151823Z
UID:10016-1790330400-1790443800@roeyatraining.com
SUMMARY:Upper & Colonoscopy 4th Wave
DESCRIPTION:Advance your skills in Upper & Colonoscopy 4th Wave.4th Wave now open — Secure your seat. \n👉 View Program
URL:https://roeyatraining.com/event/upper-colonoscopy-4th-wave/
LOCATION:ROEYA Training Center\, Giza\, Egypt
CATEGORIES:Endoscopy Series,In Egypt
ATTACH;FMTTYPE=image/png:https://roeyatraining.com/wp-content/uploads/2026/01/5.png
END:VEVENT
BEGIN:VEVENT
DTSTART;TZID=UTC:20261009T100000
DTEND;TZID=UTC:20261011T173000
DTSTAMP:20260423T124504
CREATED:20260104T201855Z
LAST-MODIFIED:20260414T152340Z
UID:10018-1791540000-1791739800@roeyatraining.com
SUMMARY:Basic EUS Training Course
DESCRIPTION:Build a strong foundation in Endoscopic Ultrasound (EUS) with structured\, hands-on training focused on core techniques and clinical understanding.Second Wave enrollment now available. \n👉 View Program
URL:https://roeyatraining.com/event/%f0%9f%94%b9-basic-eus-training-course-2nd-wave/
LOCATION:ROEYA Training Center\, Giza\, Egypt
CATEGORIES:Endoscopy Series,In Egypt
ATTACH;FMTTYPE=image/png:https://roeyatraining.com/wp-content/uploads/2026/01/5.png
END:VEVENT
BEGIN:VEVENT
DTSTART;TZID=UTC:20261023T100000
DTEND;TZID=UTC:20261024T173000
DTSTAMP:20260423T124504
CREATED:20260414T152629Z
LAST-MODIFIED:20260414T152629Z
UID:10161-1792749600-1792863000@roeyatraining.com
SUMMARY:Liver Biopsy & Ultrasound Training Course
DESCRIPTION:The Liver Biopsy & Ultrasound Training Course – 2026 is now open for registration. \nEnhance your skills with expert-led\, hands-on ultrasound and biopsy training. \nSecure your spot today. \n👉 View Program
URL:https://roeyatraining.com/event/liver-biopsy-ultrasound-training-course-3/
LOCATION:ROEYA Training Center\, Giza\, Egypt
CATEGORIES:Endoscopy Series,In Egypt
ATTACH;FMTTYPE=image/png:https://roeyatraining.com/wp-content/uploads/2026/01/5.png
END:VEVENT
BEGIN:VEVENT
DTSTART;TZID=UTC:20261106T100000
DTEND;TZID=UTC:20261110T173000
DTSTAMP:20260423T124504
CREATED:20260104T202607Z
LAST-MODIFIED:20260414T152818Z
UID:10020-1793959200-1794331800@roeyatraining.com
SUMMARY:ERCP Training Course
DESCRIPTION:Advance your procedural confidence with ERCP training focused on technique\, safety\, and real-world practice.Fourth Wave registration is now open with limited seats available. \n👉 View Program
URL:https://roeyatraining.com/event/ercp-4th-wave/
LOCATION:ROEYA Training Center\, Giza\, Egypt
CATEGORIES:Endoscopy Series,In Egypt
ATTACH;FMTTYPE=image/png:https://roeyatraining.com/wp-content/uploads/2026/01/5.png
END:VEVENT
BEGIN:VEVENT
DTSTART;TZID=UTC:20261120T100000
DTEND;TZID=UTC:20261121T173000
DTSTAMP:20260423T124504
CREATED:20260104T203353Z
LAST-MODIFIED:20260414T152905Z
UID:10022-1795168800-1795282200@roeyatraining.com
SUMMARY:Upper & Colonoscopy Training Course 5th Wave
DESCRIPTION:Advance your upper and colonoscopy skills.Wave 5 now open — Secure your seat today. \n👉 View Program
URL:https://roeyatraining.com/event/upper-colonoscopy-training-course-5th-wave/
LOCATION:ROEYA Training Center\, Giza\, Egypt
CATEGORIES:Endoscopy Series,In Egypt
ATTACH;FMTTYPE=image/png:https://roeyatraining.com/wp-content/uploads/2026/01/5.png
END:VEVENT
BEGIN:VEVENT
DTSTART;TZID=UTC:20261215T100000
DTEND;TZID=UTC:20261217T173000
DTSTAMP:20260423T124504
CREATED:20260104T203851Z
LAST-MODIFIED:20260414T152949Z
UID:10024-1797328800-1797528600@roeyatraining.com
SUMMARY:ESD Training Course – 4th Wave
DESCRIPTION:Enhance your advanced endoscopic skills with ESD training\, focused on precision\, safety\, and hands-on practice.Fourth Wave registration is now open — limited seats available. \n👉 View Program
URL:https://roeyatraining.com/event/esd-training-course-4th-wave/
LOCATION:ROEYA Training Center\, Giza\, Egypt
CATEGORIES:Endoscopy Series,In Egypt
ATTACH;FMTTYPE=image/png:https://roeyatraining.com/wp-content/uploads/2026/01/5.png
END:VEVENT
BEGIN:VEVENT
DTSTART;TZID=UTC:20261218T100000
DTEND;TZID=UTC:20261222T173000
DTSTAMP:20260423T124504
CREATED:20260104T204454Z
LAST-MODIFIED:20260414T153036Z
UID:10026-1797588000-1797960600@roeyatraining.com
SUMMARY:ERCP Training Course 5th Wave
DESCRIPTION:Master advanced ERCP techniques with hands-on training and expert guidance.Wave 5 is now open — limited seats available. \n👉 View Program
URL:https://roeyatraining.com/event/ercp-training-course-5th-wave/
LOCATION:ROEYA Training Center\, Giza\, Egypt
CATEGORIES:Endoscopy Series,In Egypt
ATTACH;FMTTYPE=image/png:https://roeyatraining.com/wp-content/uploads/2026/01/6.png
END:VEVENT
BEGIN:VEVENT
DTSTART;TZID=UTC:20261225T100000
DTEND;TZID=UTC:20261226T173000
DTSTAMP:20260423T124504
CREATED:20260104T204711Z
LAST-MODIFIED:20260414T153056Z
UID:10028-1798192800-1798306200@roeyatraining.com
SUMMARY:Hemostasis & Polypectomy Training Course – 4th Wave
DESCRIPTION:Advance your therapeutic endoscopy skills with hands-on Hemostasis & Polypectomy training.Wave 4 enrollment is now open — limited seats available. \n👉 View Program
URL:https://roeyatraining.com/event/hemostasis-polypectomy-training-course-4th-wave/
LOCATION:ROEYA Training Center\, Giza\, Egypt
CATEGORIES:Endoscopy Series,In Egypt
ATTACH;FMTTYPE=image/png:https://roeyatraining.com/wp-content/uploads/2026/01/6.png
END:VEVENT
END:VCALENDAR